
BEGIN:VCALENDAR
VERSION:2.0
CALSCALE:GREGORIAN
BEGIN:VEVENT
URL;VALUE=URI:https://www.boardoftrade.com/events/5868
DTSTART:20150708T003000Z
DTEND:20150708T023000Z
UID:5868eventcalendar.boardoftrade.com
DTSTAMP:20260419T130744Z
LOCATION:Segal Graduate School of Business500 Granville Street\, Vancouver | 
DESCRIPTION:Schedule: \nRegistration and Networking:  5:30 - 6:00 p.m. \nPresentation:  6:00 - 6:30 p.m.\nTeam Discussions:  6:30 - 7:00 p.m.\nTeam Presentations:  7:00 - 7:30 p.m.\n \nEvent Detail Page: https://www.boardoftrade.com/events/5868
X-ALT-DESC;FMTTYPE=text/html:<!doctype html><html><body><div>Schedule: <p>Registration and Networking: &nbsp\;5:30 - 6:00 p.m. <BR>Presentation: &nbsp\;6:00 - 6:30 p.m.<BR>Team Discussions: &nbsp\;6:30 - 7:00 p.m.<BR>Team Presentations: &nbsp\;7:00 - 7:30 p.m.</p></div>&nbsp\;<div>Event Detail Page: https://www.boardoftrade.com/events/5868</div></body></html>

SUMMARY:Leaders of Tomorrow Leadership Cafe with Big Brothers of Greater Vancouver
END:VEVENT
END:VCALENDAR