
BEGIN:VCALENDAR
VERSION:2.0
CALSCALE:GREGORIAN
BEGIN:VEVENT
URL;VALUE=URI:https://www.boardoftrade.com/events/5875
DTSTART:20150715T183000Z
DTEND:20150715T203000Z
UID:5875eventcalendar.boardoftrade.com
DTSTAMP:20260421T201017Z
LOCATION:Delta Bow Valley | 209 4th Avenue SE | Calgary\, AB  |  |  | 
DESCRIPTION:Schedule: \n11:30 a.m. – 1:30 p.m.\n \nEvent Detail Page: https://www.boardoftrade.com/events/5875
X-ALT-DESC;FMTTYPE=text/html:<!doctype html><html><body><div>Schedule: <p>11:30 a.m. – 1:30 p.m.</p></div>&nbsp\;<div>Event Detail Page: https://www.boardoftrade.com/events/5875</div></body></html>

SUMMARY:Politics\, Business and First Nations Partnerships: A briefing on the economic climate in B.C.
END:VEVENT
END:VCALENDAR