
BEGIN:VCALENDAR
VERSION:2.0
CALSCALE:GREGORIAN
BEGIN:VEVENT
URL;VALUE=URI:https://www.boardoftrade.com/events/5895
DTSTART:20150910T003000Z
DTEND:20150910T023000Z
UID:5895eventcalendar.boardoftrade.com
DTSTAMP:20260420T084143Z
LOCATION:TELUS World of Science - Atrium | 1455 Quebec St |   | 
DESCRIPTION:Schedule: \nReception:  5:30 - 7:30 p.m.\n \nEvent Detail Page: https://www.boardoftrade.com/events/5895
X-ALT-DESC;FMTTYPE=text/html:<!doctype html><html><body><div>Schedule: <p>Reception: &nbsp\;5:30 - 7:30 p.m.</p></div>&nbsp\;<div>Event Detail Page: https://www.boardoftrade.com/events/5895</div></body></html>

SUMMARY:Members' Reception at Science World hosted by Norah Borden and 3 Tier Logic
END:VEVENT
END:VCALENDAR