
BEGIN:VCALENDAR
VERSION:2.0
CALSCALE:GREGORIAN
BEGIN:VEVENT
URL;VALUE=URI:https://www.boardoftrade.com/events/5914
DTSTART:20151211T153000Z
DTEND:20151211T170000Z
UID:5914eventcalendar.boardoftrade.com
DTSTAMP:20260426T001137Z
LOCATION:JOEY Restaurant – Bentall One505 Burrard St\, Vancouver | 
DESCRIPTION:Schedule: \nRegistration and Coffee:  7:30 - 8:00 a.m. \nProgram and Questions:  8:00 - 9:00 a.m.\n \nEvent Detail Page: https://www.boardoftrade.com/events/5914
X-ALT-DESC;FMTTYPE=text/html:<!doctype html><html><body><div>Schedule: <p>Registration and Coffee: &nbsp\;7:30 - 8:00 a.m. <BR>Program and Questions: &nbsp\;8:00 - 9:00 a.m.</p></div>&nbsp\;<div>Event Detail Page: https://www.boardoftrade.com/events/5914</div></body></html>

SUMMARY:Leaders of Tomorrow Executive Roundtable with JOEY Restaurant Group
END:VEVENT
END:VCALENDAR