
BEGIN:VCALENDAR
VERSION:2.0
CALSCALE:GREGORIAN
BEGIN:VEVENT
URL;VALUE=URI:https://www.boardoftrade.com/events/5973
DTSTART:20160224T150000Z
DTEND:20160224T170000Z
UID:5973eventcalendar.boardoftrade.com
DTSTAMP:20260422T095838Z
LOCATION:Pinnacle Harbourfront Hotel - Tuscany | 1133 West Hastings Street | 
DESCRIPTION:Schedule: \nRegistration & Light Breakfast:  7:00 - 7:45 a.m.\nProgram & Questions:  7:45 - 8:45 a.m.\nTable Discussions:  8:45 - 9:00 a.m.\n \nEvent Detail Page: https://www.boardoftrade.com/events/5973
X-ALT-DESC;FMTTYPE=text/html:<!doctype html><html><body><div>Schedule: <p>Registration & Light Breakfast:&nbsp\; 7:00 - 7:45 a.m.<BR>Program & Questions:&nbsp\; 7:45 - 8:45 a.m.<BR>Table Discussions:&nbsp\; 8:45 - 9:00 a.m.</p></div>&nbsp\;<div>Event Detail Page: https://www.boardoftrade.com/events/5973</div></body></html>

SUMMARY:Tax Planning Considerations for Small Businesses
END:VEVENT
END:VCALENDAR