
BEGIN:VCALENDAR
VERSION:2.0
CALSCALE:GREGORIAN
BEGIN:VEVENT
URL;VALUE=URI:https://www.boardoftrade.com/events/5978
DTSTART:20160518T183000Z
DTEND:20160518T210000Z
UID:5978eventcalendar.boardoftrade.com
DTSTAMP:20260422T083042Z
LOCATION:Pan Pacific Vancouver - Crystal Pavilion | 999 Canada Place\, Vancouver |  | 
DESCRIPTION:Schedule: \nRegistration: 11:30 a.m.\nLunch and Program: 12:00 - 2:00 p.m.\n \nEvent Detail Page: https://www.boardoftrade.com/events/5978
X-ALT-DESC;FMTTYPE=text/html:<!doctype html><html><body><div>Schedule: <p>Registration: 11:30 a.m.<BR>Lunch and Program: 12:00 - 2:00 p.m.</p></div>&nbsp\;<div>Event Detail Page: https://www.boardoftrade.com/events/5978</div></body></html>

SUMMARY:Special Event: Greater Vancouver Economic Scorecard Launch
END:VEVENT
END:VCALENDAR