
BEGIN:VCALENDAR
VERSION:2.0
CALSCALE:GREGORIAN
BEGIN:VEVENT
URL;VALUE=URI:https://www.boardoftrade.com/events/5982
DTSTART:20160303T191500Z
DTEND:20160303T213000Z
UID:5982eventcalendar.boardoftrade.com
DTSTAMP:20260420T101200Z
LOCATION:Vancouver Convention Centre - EAST | 999 Canada Place\,  Vancouver |  |  |  |  | 
DESCRIPTION:Event Detail Page: https://www.boardoftrade.com/events/5982
X-ALT-DESC;FMTTYPE=text/html:<!doctype html><html><body><div>Event Detail Page: https://www.boardoftrade.com/events/5982</div></body></html>

SUMMARY:Michael Porter: Transition to a low-carbon economy
END:VEVENT
END:VCALENDAR