
BEGIN:VCALENDAR
VERSION:2.0
CALSCALE:GREGORIAN
BEGIN:VEVENT
URL;VALUE=URI:https://www.boardoftrade.com/events/6015
DTSTART:20160427T140000Z
DTEND:20160427T160000Z
UID:6015eventcalendar.boardoftrade.com
DTSTAMP:20260420T100651Z
LOCATION:BLG Borden Ladner GervaisSuite 1200 Waterfront Centre200 Burrard Street\, Vancouver  | 
DESCRIPTION:Schedule: \nRegistration & Light Breakfast:  7:00 - 7:45 a.m.\nProgram & Questions:  7:45 - 8:45 a.m.\nGuest Dialogues & Event Conclusion:  8:45 - 9:00 a.m.\n \nEvent Detail Page: https://www.boardoftrade.com/events/6015
X-ALT-DESC;FMTTYPE=text/html:<!doctype html><html><body><div>Schedule: <p>Registration & Light Breakfast:&nbsp\; 7:00 - 7:45 a.m.<BR>Program & Questions:&nbsp\; 7:45 - 8:45 a.m.<BR>Guest Dialogues & Event Conclusion:&nbsp\; 8:45 - 9:00 a.m.</p></div>&nbsp\;<div>Event Detail Page: https://www.boardoftrade.com/events/6015</div></body></html>

SUMMARY:Employment Law Essentials: From hiring to firing
END:VEVENT
END:VCALENDAR