
BEGIN:VCALENDAR
VERSION:2.0
CALSCALE:GREGORIAN
BEGIN:VEVENT
URL;VALUE=URI:https://www.boardoftrade.com/events/6023
DTSTART:20160603T003000Z
DTEND:20160603T023000Z
UID:6023eventcalendar.boardoftrade.com
DTSTAMP:20260420T083725Z
LOCATION:Hotel Vancouver - Rooftop900 West Georgia | 
DESCRIPTION:Schedule: \nReception:  5:30 - 7:30 p.m.\n \nEvent Detail Page: https://www.boardoftrade.com/events/6023
X-ALT-DESC;FMTTYPE=text/html:<!doctype html><html><body><div>Schedule: <p>Reception: &nbsp\;5:30 - 7:30 p.m.</p></div>&nbsp\;<div>Event Detail Page: https://www.boardoftrade.com/events/6023</div></body></html>

SUMMARY:Members' Reception: Nature Conservancy of Canada
END:VEVENT
END:VCALENDAR