
BEGIN:VCALENDAR
VERSION:2.0
CALSCALE:GREGORIAN
BEGIN:VEVENT
URL;VALUE=URI:https://www.boardoftrade.com/events/6065
DTSTART:20161020T141500Z
DTEND:20161020T160000Z
UID:6065eventcalendar.boardoftrade.com
DTSTAMP:20260419T212913Z
LOCATION:The Sutton Place Hotel Vancouver - Versailles Ballroom845 Burrard Street\, Vancouver |  |  |  |  | 
DESCRIPTION:Schedule: \nRegistration and Breakfast:  7:15 a.m.\nProgram:  7:45 - 9:00 a.m.\n \nEvent Detail Page: https://www.boardoftrade.com/events/6065
X-ALT-DESC;FMTTYPE=text/html:<!doctype html><html><body><div>Schedule: <p>Registration and Breakfast: &nbsp\;7:15 a.m.<BR>Program: &nbsp\;7:45 - 9:00 a.m.</p></div>&nbsp\;<div>Event Detail Page: https://www.boardoftrade.com/events/6065</div></body></html>

SUMMARY:Not easy being green: How B.C. is reducing emissions and growing the economy.
END:VEVENT
END:VCALENDAR