
BEGIN:VCALENDAR
VERSION:2.0
CALSCALE:GREGORIAN
BEGIN:VEVENT
URL;VALUE=URI:https://www.boardoftrade.com/events/6067
DTSTART:20161013T183000Z
DTEND:20161013T210000Z
UID:6067eventcalendar.boardoftrade.com
DTSTAMP:20260425T144529Z
LOCATION:Pan Pacific Vancouver - Crystal Pavilion 999 Canada Place\, Vancouver | 
DESCRIPTION:Schedule: \nRegistration:  11:30 a.m.\nLunch and Program:  12:00 - 2:00 p.m.\n \nEvent Detail Page: https://www.boardoftrade.com/events/6067
X-ALT-DESC;FMTTYPE=text/html:<!doctype html><html><body><div>Schedule: <p>Registration: &nbsp\;11:30 a.m.<BR>Lunch and Program: &nbsp\;12:00 - 2:00 p.m.</p></div>&nbsp\;<div>Event Detail Page: https://www.boardoftrade.com/events/6067</div></body></html>

SUMMARY:Moving TransLink Forward: 6 Months of Progress
END:VEVENT
END:VCALENDAR