
BEGIN:VCALENDAR
VERSION:2.0
CALSCALE:GREGORIAN
BEGIN:VEVENT
URL;VALUE=URI:https://www.boardoftrade.com/events/6085
DTSTART:20161114T193000Z
DTEND:20161114T220000Z
UID:6085eventcalendar.boardoftrade.com
DTSTAMP:20260420T140858Z
LOCATION:Pan Pacific Vancouver - Crystal Pavilion 999 Canada Place\, Vancouver | 
DESCRIPTION:Schedule: \nRegistration:  11:30 a.m.\nLunch and Program:  12:00 - 2:00 p.m.\n \nEvent Detail Page: https://www.boardoftrade.com/events/6085
X-ALT-DESC;FMTTYPE=text/html:<!doctype html><html><body><div>Schedule: <p>Registration: &nbsp\;11:30 a.m.<BR>Lunch and Program: &nbsp\;12:00 - 2:00 p.m.</p></div>&nbsp\;<div>Event Detail Page: https://www.boardoftrade.com/events/6085</div></body></html>

SUMMARY:BC Jobs Plan: Keeping our economy diverse\, strong and growing
END:VEVENT
END:VCALENDAR