
BEGIN:VCALENDAR
VERSION:2.0
CALSCALE:GREGORIAN
BEGIN:VEVENT
URL;VALUE=URI:https://www.boardoftrade.com/events/6112
DTSTART:20170112T013000Z
DTEND:20170112T033000Z
UID:6112eventcalendar.boardoftrade.com
DTSTAMP:20260422T092054Z
LOCATION:The Loft at Earls1095 Mainland St\, Vancouver | 
DESCRIPTION:Schedule: \nRegistration & Reception 5:30 - 6:00 p.m.\nWelcome and Presentation 6:00 - 6:15 p.m.\nReception & Networking 6:15 - 7:30 p.m.\n \nEvent Detail Page: https://www.boardoftrade.com/events/6112
X-ALT-DESC;FMTTYPE=text/html:<!doctype html><html><body><div>Schedule: <p>Registration & Reception 5:30 - 6:00 p.m.<BR>Welcome and Presentation 6:00 - 6:15 p.m.<BR>Reception & Networking 6:15 - 7:30 p.m.</p></div>&nbsp\;<div>Event Detail Page: https://www.boardoftrade.com/events/6112</div></body></html>

SUMMARY:Intrapreneurship with Launch Academy
END:VEVENT
END:VCALENDAR