
BEGIN:VCALENDAR
VERSION:2.0
CALSCALE:GREGORIAN
BEGIN:VEVENT
URL;VALUE=URI:https://www.boardoftrade.com/events/6146
DTSTART:20170512T000000Z
DTEND:20170512T020000Z
UID:6146eventcalendar.boardoftrade.com
DTSTAMP:20260421T172615Z
LOCATION:Hastings Racecourse and Casino | 188 N. Renfrew st | Vancouver\, BC |   | 
DESCRIPTION:Schedule: \nReception:  5:00 - 7:00 p.m.\n \nEvent Detail Page: https://www.boardoftrade.com/events/6146
X-ALT-DESC;FMTTYPE=text/html:<!doctype html><html><body><div>Schedule: <p>Reception: &nbsp\;5:00 - 7:00 p.m.</p></div>&nbsp\;<div>Event Detail Page: https://www.boardoftrade.com/events/6146</div></body></html>

SUMMARY:Members' Reception with Hastings Racecourse
END:VEVENT
END:VCALENDAR