
BEGIN:VCALENDAR
VERSION:2.0
CALSCALE:GREGORIAN
BEGIN:VEVENT
URL;VALUE=URI:https://www.boardoftrade.com/events/6175
DTSTART:20170624T170000Z
DTEND:20170624T190000Z
UID:6175eventcalendar.boardoftrade.com
DTSTAMP:20260419T151020Z
LOCATION:Inlet Park\, 3000 Block Murray Street\, Port Moody | 
DESCRIPTION:Schedule: \nCYP Meetup Time:  10 a.m.\nShoreline Cleanup: 10:15 - 12 p.m.\n\n \nEvent Detail Page: https://www.boardoftrade.com/events/6175
X-ALT-DESC;FMTTYPE=text/html:<!doctype html><html><body><div>Schedule: <p>CYP Meetup Time: &nbsp\;10 a.m.<BR>Shoreline Cleanup:&nbsp\;10:15 - 12 p.m.<BR></p></div>&nbsp\;<div>Event Detail Page: https://www.boardoftrade.com/events/6175</div></body></html>

SUMMARY:Great Canadian Shoreline Cleanup
END:VEVENT
END:VCALENDAR