
BEGIN:VCALENDAR
VERSION:2.0
CALSCALE:GREGORIAN
BEGIN:VEVENT
URL;VALUE=URI:https://www.boardoftrade.com/events/6180
DTSTART:20171024T223000Z
DTEND:20171025T020000Z
UID:6180eventcalendar.boardoftrade.com
DTSTAMP:20260419T214139Z
LOCATION:Fairmont Hotel Vancouver | BC Ballroom | 900 W Georgia Street\, Vancouver |  |  | 
DESCRIPTION:Event Detail Page: https://www.boardoftrade.com/events/6180
X-ALT-DESC;FMTTYPE=text/html:<!doctype html><html><body><div>Event Detail Page: https://www.boardoftrade.com/events/6180</div></body></html>

SUMMARY:4th Annual Greater Vancouver Board of <em>Trade Show</em>
END:VEVENT
END:VCALENDAR