
BEGIN:VCALENDAR
VERSION:2.0
CALSCALE:GREGORIAN
BEGIN:VEVENT
URL;VALUE=URI:https://www.boardoftrade.com/events/6203
DTSTART:20170928T003000Z
DTEND:20170928T030000Z
UID:6203eventcalendar.boardoftrade.com
DTSTAMP:20260420T042043Z
LOCATION:Coast Coal Harbour Hotel 1180 W Hastings St\, Vancouver | Room: Coast Coal Harbour A | 
DESCRIPTION:Schedule: \nRegistration and Reception 5:30-6:00 p.m.\nWelcome and Presentation 6:00-7:00 p.m.\nReception and Networking 7:00-7:30 p.m.\n \nEvent Detail Page: https://www.boardoftrade.com/events/6203
X-ALT-DESC;FMTTYPE=text/html:<!doctype html><html><body><div>Schedule: <p>Registration and Reception 5:30-6:00 p.m.<BR>Welcome and Presentation 6:00-7:00 p.m.<BR>Reception and Networking 7:00-7:30 p.m.</p></div>&nbsp\;<div>Event Detail Page: https://www.boardoftrade.com/events/6203</div></body></html>

SUMMARY:Peer Leadership Forum Annual Launch
END:VEVENT
END:VCALENDAR