
BEGIN:VCALENDAR
VERSION:2.0
CALSCALE:GREGORIAN
BEGIN:VEVENT
URL;VALUE=URI:https://www.boardoftrade.com/events/6253
DTSTART:20180216T010000Z
DTEND:20180216T033000Z
UID:6253eventcalendar.boardoftrade.com
DTSTAMP:20260421T095455Z
LOCATION:Queen Elizabeth Theatre630 Hamilton Street\, Vancouver | 
DESCRIPTION:Schedule: \nDoors:  5:00 p.m.\nProgram:  6:00 - 7:45 p.m.\n \nEvent Detail Page: https://www.boardoftrade.com/events/6253
X-ALT-DESC;FMTTYPE=text/html:<!doctype html><html><body><div>Schedule: <p>Doors: &nbsp\;5:00 p.m.<BR>Program: &nbsp\;6:00 - 7:45 p.m.</p></div>&nbsp\;<div>Event Detail Page: https://www.boardoftrade.com/events/6253</div></body></html>

SUMMARY:A Conversation with Former U.S. First Lady Michelle Obama
END:VEVENT
END:VCALENDAR