
BEGIN:VCALENDAR
VERSION:2.0
CALSCALE:GREGORIAN
BEGIN:VEVENT
URL;VALUE=URI:https://www.boardoftrade.com/events/6314
DTSTART:20181016T143000Z
DTEND:20181016T190000Z
UID:6314eventcalendar.boardoftrade.com
DTSTAMP:20260424T071611Z
LOCATION:Fairmont Hotel Vancouver - Pacific Ballroom900 W Georgia St\, Vancouver | 
DESCRIPTION:Schedule: \nRegistration & Buffet Breakfast: 7:30 - 8:00 a.m.\nProgram: 8:00 a.m. - 12:00 p.m. \n\n \nEvent Detail Page: https://www.boardoftrade.com/events/6314
X-ALT-DESC;FMTTYPE=text/html:<!doctype html><html><body><div>Schedule: <p>Registration & Buffet Breakfast: 7:30 - 8:00 a.m.<BR>Program: 8:00 a.m. - 12:00 p.m. <BR></p></div>&nbsp\;<div>Event Detail Page: https://www.boardoftrade.com/events/6314</div></body></html>

SUMMARY:Transportation Forum 2018: Moving people around our region
END:VEVENT
END:VCALENDAR