
BEGIN:VCALENDAR
VERSION:2.0
CALSCALE:GREGORIAN
BEGIN:VEVENT
URL;VALUE=URI:https://www.boardoftrade.com/events/6334
DTSTART:20181020T010000Z
DTEND:20181020T040000Z
UID:6334eventcalendar.boardoftrade.com
DTSTAMP:20260421T082157Z
LOCATION:Rogers Arena\, 800 Griffiths WayVancouver | 
DESCRIPTION:Schedule: \nDoors:  6:00 p.m.\nProgram:  7:00  p.m.\n \nEvent Detail Page: https://www.boardoftrade.com/events/6334
X-ALT-DESC;FMTTYPE=text/html:<!doctype html><html><body><div>Schedule: <p>Doors: &nbsp\;6:00 p.m.<BR>Program: &nbsp\;7:00  p.m.</p></div>&nbsp\;<div>Event Detail Page: https://www.boardoftrade.com/events/6334</div></body></html>

SUMMARY:A Conversation with Ellen
END:VEVENT
END:VCALENDAR