
BEGIN:VCALENDAR
VERSION:2.0
CALSCALE:GREGORIAN
BEGIN:VEVENT
URL;VALUE=URI:https://www.boardoftrade.com/events/6340
DTSTART:20181119T193000Z
DTEND:20181119T220000Z
UID:6340eventcalendar.boardoftrade.com
DTSTAMP:20260424T212853Z
LOCATION:Coast Coal Harbour Hotel - Coal Harbour Ballroom1180 West Hastings Street\, Vancouver |  | 
DESCRIPTION:Schedule: \nRegistration:  11:30 a.m.\nLunch and Program:  12:00 - 2:00 p.m.\n \nEvent Detail Page: https://www.boardoftrade.com/events/6340
X-ALT-DESC;FMTTYPE=text/html:<!doctype html><html><body><div>Schedule: <p>Registration: &nbsp\;11:30 a.m.<BR>Lunch and Program: &nbsp\;12:00 - 2:00 p.m.</p></div>&nbsp\;<div>Event Detail Page: https://www.boardoftrade.com/events/6340</div></body></html>

SUMMARY:Auto Insurance in B.C.
END:VEVENT
END:VCALENDAR