
BEGIN:VCALENDAR
VERSION:2.0
CALSCALE:GREGORIAN
BEGIN:VEVENT
URL;VALUE=URI:https://www.boardoftrade.com/events/6343
DTSTART:20190528T010000Z
DTEND:20190528T043000Z
UID:6343eventcalendar.boardoftrade.com
DTSTAMP:20260420T053157Z
LOCATION:JW Marriott Parq Vancouver &amp\; The Douglas Hotel Grand Ballroom 39 Smithe St.\, Vancouver  | 
DESCRIPTION:Schedule: \nReception:  6:00 p.m. \nDinner and Awards:  7:00 - 9:30 p.m.\n \nEvent Detail Page: https://www.boardoftrade.com/events/6343
X-ALT-DESC;FMTTYPE=text/html:<!doctype html><html><body><div>Schedule: <p>Reception: &nbsp\;6:00 p.m. <BR>Dinner and Awards: &nbsp\;7:00 - 9:30 p.m.</p></div>&nbsp\;<div>Event Detail Page: https://www.boardoftrade.com/events/6343</div></body></html>

SUMMARY:Governors’ Banquet and Rix Awards 2019
END:VEVENT
END:VCALENDAR