
BEGIN:VCALENDAR
VERSION:2.0
CALSCALE:GREGORIAN
BEGIN:VEVENT
URL;VALUE=URI:https://www.boardoftrade.com/events/6388
DTSTART:20190131T230000Z
DTEND:20190201T030000Z
UID:6388eventcalendar.boardoftrade.com
DTSTAMP:20260420T061258Z
LOCATION:UBC Robson SquareRoom C680 800 Robson Street\, Vancouver | 
DESCRIPTION:Schedule: \nRegistration & Networking:  3:00 - 3:30 p.m. \nProgram & Questions:  3:30 - 5:00 p.m.\n\nCANZBA Australia Day - Waitangi Day Reception:  \n5:00 - 7:00 p.m.\n\n\n \nEvent Detail Page: https://www.boardoftrade.com/events/6388
X-ALT-DESC;FMTTYPE=text/html:<!doctype html><html><body><div>Schedule: <p>Registration & Networking: &nbsp\;3:00 - 3:30 p.m. <BR>Program & Questions: &nbsp\;3:30 - 5:00 p.m.<BR><BR>CANZBA Australia Day - Waitangi Day Reception: &nbsp\;<BR>5:00 - 7:00 p.m.<BR><BR></p></div>&nbsp\;<div>Event Detail Page: https://www.boardoftrade.com/events/6388</div></body></html>

SUMMARY:Doing Business Down Under
END:VEVENT
END:VCALENDAR