
BEGIN:VCALENDAR
VERSION:2.0
CALSCALE:GREGORIAN
BEGIN:VEVENT
URL;VALUE=URI:https://www.boardoftrade.com/events/6396
DTSTART:20190311T183000Z
DTEND:20190311T210000Z
UID:6396eventcalendar.boardoftrade.com
DTSTAMP:20260426T011604Z
LOCATION:Four Seasons Hotel VancouverPark Ballroom 791 West Georgia Street\, Vancouver  | 
DESCRIPTION:Schedule: \nRegistration:  11:30 a.m.\nLunch and Program:  12:00 - 2:00 p.m.\n \nEvent Detail Page: https://www.boardoftrade.com/events/6396
X-ALT-DESC;FMTTYPE=text/html:<!doctype html><html><body><div>Schedule: <p>Registration: &nbsp\;11:30 a.m.<BR>Lunch and Program: &nbsp\;12:00 - 2:00 p.m.</p></div>&nbsp\;<div>Event Detail Page: https://www.boardoftrade.com/events/6396</div></body></html>

SUMMARY:UBC’s Strategic Plan and You
END:VEVENT
END:VCALENDAR