
BEGIN:VCALENDAR
VERSION:2.0
CALSCALE:GREGORIAN
BEGIN:VEVENT
URL;VALUE=URI:https://www.boardoftrade.com/events/6398
DTSTART:20190715T183000Z
DTEND:20190716T033000Z
UID:6398eventcalendar.boardoftrade.com
DTSTAMP:20260420T082904Z
LOCATION:Northview Golf &amp\; Country Club | The Canal Course | 6857 168th Street | Surrey | 
DESCRIPTION:Schedule: \n11:30 a.m – 1:00 p.m:  Registration \n(practice greens open)\n\n1:30 p.m: Shotgun Start\n\n6:30 – 8:30 p.m: Silent Auction\, Dinner and Awards\n \nEvent Detail Page: https://www.boardoftrade.com/events/6398
X-ALT-DESC;FMTTYPE=text/html:<!doctype html><html><body><div>Schedule: <p>11:30 a.m – 1:00 p.m:  Registration <BR>(practice greens open)<BR><BR><b>1:30 p.m: Shotgun Start</b><BR><BR>6:30 – 8:30 p.m: Silent Auction\, Dinner and Awards</p></div>&nbsp\;<div>Event Detail Page: https://www.boardoftrade.com/events/6398</div></body></html>

SUMMARY:Pro-Am Golf Tournament
END:VEVENT
END:VCALENDAR