
BEGIN:VCALENDAR
VERSION:2.0
CALSCALE:GREGORIAN
BEGIN:VEVENT
URL;VALUE=URI:https://www.boardoftrade.com/events/6425
DTSTART:20190621T153000Z
DTEND:20190621T170000Z
UID:6425eventcalendar.boardoftrade.com
DTSTAMP:20260421T095739Z
LOCATION:Parq Vancouver Hotel - Kitsilano Ballroom | 39 Smithe St\, Vancouver |  | 
DESCRIPTION:Schedule: \nRegistration and Breakfast:  8:30 - 9:00 a.m.\nProgram:   9:00 - 10:00 a.m.\n \nEvent Detail Page: https://www.boardoftrade.com/events/6425
X-ALT-DESC;FMTTYPE=text/html:<!doctype html><html><body><div>Schedule: <p>Registration and Breakfast: &nbsp\;8:30 - 9:00 a.m.<BR>Program: &nbsp\; 9:00 - 10:00 a.m.</p></div>&nbsp\;<div>Event Detail Page: https://www.boardoftrade.com/events/6425</div></body></html>

SUMMARY:NHL Hot Stove with Gary Bettman and Francesco Aquilini
END:VEVENT
END:VCALENDAR