
BEGIN:VCALENDAR
VERSION:2.0
CALSCALE:GREGORIAN
BEGIN:VEVENT
URL;VALUE=URI:https://www.boardoftrade.com/events/6466
DTSTART:20190916T143000Z
DTEND:20190916T163000Z
UID:6466eventcalendar.boardoftrade.com
DTSTAMP:20260420T015422Z
LOCATION:Fairmont Hotel Vancouver - Pacific Ballroom | 900 W Georgia St.\, Vancouver |  |  |  |  | 
DESCRIPTION:Schedule: \nRegistration and Breakfast:  7:30 a.m.\nProgram:  8:00 - 9:30 a.m.\n \nEvent Detail Page: https://www.boardoftrade.com/events/6466
X-ALT-DESC;FMTTYPE=text/html:<!doctype html><html><body><div>Schedule: <p>Registration and Breakfast: &nbsp\;7:30 a.m.<BR>Program: &nbsp\;8:00 - 9:30 a.m.</p></div>&nbsp\;<div>Event Detail Page: https://www.boardoftrade.com/events/6466</div></body></html>

SUMMARY:Canada Votes 2019
END:VEVENT
END:VCALENDAR