
BEGIN:VCALENDAR
VERSION:2.0
CALSCALE:GREGORIAN
BEGIN:VEVENT
URL;VALUE=URI:https://www.boardoftrade.com/events/6560
DTSTART:20200327T191500Z
DTEND:20200327T200000Z
UID:6560eventcalendar.boardoftrade.com
DTSTAMP:20260421T085806Z
LOCATION:
DESCRIPTION:Schedule: \nOnline Program 12:15 - 1:00 p.m. PT\n \nEvent Detail Page: https://www.boardoftrade.com/events/6560
X-ALT-DESC;FMTTYPE=text/html:<!doctype html><html><body><div>Schedule: <p>Online Program 12:15 - 1:00 p.m. PT</p></div>&nbsp\;<div>Event Detail Page: https://www.boardoftrade.com/events/6560</div></body></html>

SUMMARY:Business Resiliency Series: Mental Wellness - Navigating COVID-19
END:VEVENT
END:VCALENDAR