
BEGIN:VCALENDAR
VERSION:2.0
CALSCALE:GREGORIAN
BEGIN:VEVENT
URL;VALUE=URI:https://www.boardoftrade.com/events/6566
DTSTART:20200407T191500Z
DTEND:20200407T200000Z
UID:6566eventcalendar.boardoftrade.com
DTSTAMP:20260420T001625Z
LOCATION:
DESCRIPTION:Schedule: \nOnline Program 12:15-1:00 p.m. PT\n \nEvent Detail Page: https://www.boardoftrade.com/events/6566
X-ALT-DESC;FMTTYPE=text/html:<!doctype html><html><body><div>Schedule: <p>Online Program 12:15-1:00 p.m. PT</p></div>&nbsp\;<div>Event Detail Page: https://www.boardoftrade.com/events/6566</div></body></html>

SUMMARY:Business Resiliency Series: Organizational Tips and Tax Considerations for SMEs - Navigating COVID-19
END:VEVENT
END:VCALENDAR