
BEGIN:VCALENDAR
VERSION:2.0
CALSCALE:GREGORIAN
BEGIN:VEVENT
URL;VALUE=URI:https://www.boardoftrade.com/events/6623
DTSTART:20201103T160000Z
DTEND:20201103T170000Z
UID:6623eventcalendar.boardoftrade.com
DTSTAMP:20260419T225208Z
LOCATION:
DESCRIPTION:Schedule: \nOnline Program 8:00 - 9:00 a.m. PT\n \nEvent Detail Page: https://www.boardoftrade.com/events/6623
X-ALT-DESC;FMTTYPE=text/html:<!doctype html><html><body><div>Schedule: <p>Online Program 8:00 - 9:00 a.m. PT</p></div>&nbsp\;<div>Event Detail Page: https://www.boardoftrade.com/events/6623</div></body></html>

SUMMARY:133  Annual General Meeting
END:VEVENT
END:VCALENDAR