
BEGIN:VCALENDAR
VERSION:2.0
CALSCALE:GREGORIAN
BEGIN:VEVENT
URL;VALUE=URI:https://www.boardoftrade.com/events/6637
DTSTART:20201102T200000Z
DTEND:20201102T210000Z
UID:6637eventcalendar.boardoftrade.com
DTSTAMP:20260424T065326Z
LOCATION:
DESCRIPTION:Schedule: \nOnline Program 12:00 - 1:00 p.m\n\n \nEvent Detail Page: https://www.boardoftrade.com/events/6637
X-ALT-DESC;FMTTYPE=text/html:<!doctype html><html><body><div>Schedule: <p>Online Program 12:00 - 1:00 p.m<BR></p></div>&nbsp\;<div>Event Detail Page: https://www.boardoftrade.com/events/6637</div></body></html>

SUMMARY:Economic Recovery Series: Tourism & Hospitality in a time of COVID-19
END:VEVENT
END:VCALENDAR