
BEGIN:VCALENDAR
VERSION:2.0
CALSCALE:GREGORIAN
BEGIN:VEVENT
URL;VALUE=URI:https://www.boardoftrade.com/events/6668
DTSTART:20210129T200000Z
DTEND:20210129T213000Z
UID:6668eventcalendar.boardoftrade.com
DTSTAMP:20260419T203955Z
LOCATION:
DESCRIPTION:Schedule: \nOnline Program 12:00 - 1:30 p.m. PT\n \nEvent Detail Page: https://www.boardoftrade.com/events/6668
X-ALT-DESC;FMTTYPE=text/html:<!doctype html><html><body><div>Schedule: <p>Online Program 12:00 - 1:30 p.m. PT</p></div>&nbsp\;<div>Event Detail Page: https://www.boardoftrade.com/events/6668</div></body></html>

SUMMARY:The Long-Term Effects of Mental Health in a Pandemic
END:VEVENT
END:VCALENDAR