
BEGIN:VCALENDAR
VERSION:2.0
CALSCALE:GREGORIAN
BEGIN:VEVENT
URL;VALUE=URI:https://www.boardoftrade.com/events/6676
DTSTART:20210205T020000Z
DTEND:20210205T030000Z
UID:6676eventcalendar.boardoftrade.com
DTSTAMP:20260419T204226Z
LOCATION:
DESCRIPTION:Schedule: \nOnline Program: 6:00 - 7:00 p.m. PT\n \nEvent Detail Page: https://www.boardoftrade.com/events/6676
X-ALT-DESC;FMTTYPE=text/html:<!doctype html><html><body><div>Schedule: <p>Online Program: 6:00 - 7:00 p.m. PT</p></div>&nbsp\;<div>Event Detail Page: https://www.boardoftrade.com/events/6676</div></body></html>

SUMMARY:LOT Discovery Series: Lessons in Leadership
END:VEVENT
END:VCALENDAR