
BEGIN:VCALENDAR
VERSION:2.0
CALSCALE:GREGORIAN
BEGIN:VEVENT
URL;VALUE=URI:https://www.boardoftrade.com/events/6867
DTSTART:20220331T003000Z
DTEND:20220331T023000Z
UID:6867eventcalendar.boardoftrade.com
DTSTAMP:20260419T155046Z
LOCATION:The Loft at Earls | 1095 Mainland St\, Vancouver | 
DESCRIPTION:Schedule: \nRegistration & Reception: 5:30 - 6:00 p.m.\nSpeed Networking: 6:00 - 7:00 p.m.\nOpen Networking: 7:00 - 7:30 p.m.\n \nEvent Detail Page: https://www.boardoftrade.com/events/6867
X-ALT-DESC;FMTTYPE=text/html:<!doctype html><html><body><div>Schedule: <p>Registration & Reception: 5:30 - 6:00 p.m.<BR>Speed Networking: 6:00 - 7:00 p.m.<BR>Open Networking: 7:00 - 7:30 p.m.</p></div>&nbsp\;<div>Event Detail Page: https://www.boardoftrade.com/events/6867</div></body></html>

SUMMARY:Discovery Series: 16th Annual Speed Networking Night
END:VEVENT
END:VCALENDAR