
BEGIN:VCALENDAR
VERSION:2.0
CALSCALE:GREGORIAN
BEGIN:VEVENT
URL;VALUE=URI:https://www.boardoftrade.com/events/6887
DTSTART:20220519T160000Z
DTEND:20220616T190000Z
UID:6887eventcalendar.boardoftrade.com
DTSTAMP:20260425T000923Z
LOCATION:Greater Vancouver Board of Trade OfficeWorld Trade CentreSuite 400 - 999 Canada Place\, Vancouver  | 
DESCRIPTION:Schedule: \nThursday\, May 19 - June 16\n9:00 a.m. - 12:00 p.m. PT\n \nEvent Detail Page: https://www.boardoftrade.com/events/6887
X-ALT-DESC;FMTTYPE=text/html:<!doctype html><html><body><div>Schedule: <p>Thursday\, May 19 - June 16<BR>9:00 a.m. - 12:00 p.m. PT</p></div>&nbsp\;<div>Event Detail Page: https://www.boardoftrade.com/events/6887</div></body></html>

SUMMARY:ESG Fundamentals Microcredentials: Design your ESG action plan
END:VEVENT
END:VCALENDAR