
BEGIN:VCALENDAR
VERSION:2.0
CALSCALE:GREGORIAN
BEGIN:VEVENT
URL;VALUE=URI:https://www.boardoftrade.com/events/6911
DTSTART:20220629T224500Z
DTEND:20220630T000000Z
UID:6911eventcalendar.boardoftrade.com
DTSTAMP:20260419T162322Z
LOCATION:Fasken550 Burrard Street Suite 2900\, Vancouver BC  | 
DESCRIPTION:Schedule: \nRegistration: 3:45 - 4:00 p.m.\nProgram: 4:00 - 5:00 p.m.\nNetworking Reception: 5:00 - 5:30 p.m.\n \nEvent Detail Page: https://www.boardoftrade.com/events/6911
X-ALT-DESC;FMTTYPE=text/html:<!doctype html><html><body><div>Schedule: <p>Registration: 3:45 - 4:00 p.m.<BR>Program: 4:00 - 5:00 p.m.<BR>Networking Reception: 5:00 - 5:30 p.m.</p></div>&nbsp\;<div>Event Detail Page: https://www.boardoftrade.com/events/6911</div></body></html>

SUMMARY:Strengthening Canada UK Trade Relations
END:VEVENT
END:VCALENDAR