
BEGIN:VCALENDAR
VERSION:2.0
CALSCALE:GREGORIAN
BEGIN:VEVENT
URL;VALUE=URI:https://www.boardoftrade.com/events/6914
DTSTART:20220923T000000Z
DTEND:20220923T020000Z
UID:6914eventcalendar.boardoftrade.com
DTSTAMP:20260419T155245Z
LOCATION:Lucid Motors 701 West Georgia St\, Vancouver | 
DESCRIPTION:Schedule: \nReception: 5:00 - 7:00 p.m.\n \nEvent Detail Page: https://www.boardoftrade.com/events/6914
X-ALT-DESC;FMTTYPE=text/html:<!doctype html><html><body><div>Schedule: <p>Reception: 5:00 - 7:00 p.m.</p></div>&nbsp\;<div>Event Detail Page: https://www.boardoftrade.com/events/6914</div></body></html>

SUMMARY:Members' Social with Lucid Motors
END:VEVENT
END:VCALENDAR