
BEGIN:VCALENDAR
VERSION:2.0
CALSCALE:GREGORIAN
BEGIN:VEVENT
URL;VALUE=URI:https://www.boardoftrade.com/events/6917
DTSTART:20221025T153000Z
DTEND:20221025T190000Z
UID:6917eventcalendar.boardoftrade.com
DTSTAMP:20260419T155612Z
LOCATION:Fairmont Waterfront | Waterfront Ballroom  | 900 Canada Place\, Vancouver  | 
DESCRIPTION:Schedule: \nRegistration and Breakfast: 8:30 a.m - 9:00 a.m PT\nProgram: 9:00 a.m - 12:00 p.m. PT \n \nEvent Detail Page: https://www.boardoftrade.com/events/6917
X-ALT-DESC;FMTTYPE=text/html:<!doctype html><html><body><div>Schedule: <p>Registration and Breakfast: 8:30 a.m - 9:00 a.m PT<BR>Program: 9:00 a.m - 12:00 p.m. PT </p></div>&nbsp\;<div>Event Detail Page: https://www.boardoftrade.com/events/6917</div></body></html>

SUMMARY:Health Care Forum 2022 Presented by Pacific Blue Cross
END:VEVENT
END:VCALENDAR