
BEGIN:VCALENDAR
VERSION:2.0
CALSCALE:GREGORIAN
BEGIN:VEVENT
URL;VALUE=URI:https://www.boardoftrade.com/events/6922
DTSTART:20221019T190000Z
DTEND:20221019T200000Z
UID:6922eventcalendar.boardoftrade.com
DTSTAMP:20260419T154200Z
LOCATION:
DESCRIPTION:Schedule: \nOnline Program: 12:00 - 1:00 p.m. PT\n\n<i>You will be sent a Zoom link to participate in this event by 11:00 a.m. PT on the day of the event. Please don’t share the link as it will inhibit your ability to join.</i>\n \nEvent Detail Page: https://www.boardoftrade.com/events/6922
X-ALT-DESC;FMTTYPE=text/html:<!doctype html><html><body><div>Schedule: <p>Online Program: 12:00 - 1:00 p.m. PT<BR><BR><i>You will be sent a Zoom link to participate in this event by 11:00 a.m. PT on the day of the event. Please don’t share the link as it will inhibit your ability to join.</i></p></div>&nbsp\;<div>Event Detail Page: https://www.boardoftrade.com/events/6922</div></body></html>

SUMMARY:Canadian Consumer Behaviour Trends and Insights
END:VEVENT
END:VCALENDAR