
BEGIN:VCALENDAR
VERSION:2.0
CALSCALE:GREGORIAN
BEGIN:VEVENT
URL;VALUE=URI:https://www.boardoftrade.com/events/6924
DTSTART:20220909T003000Z
DTEND:20220909T023000Z
UID:6924eventcalendar.boardoftrade.com
DTSTAMP:20260419T142402Z
LOCATION:
DESCRIPTION:Schedule: \nProgram:  5:30 - 7:30 p.m. PT\n\n\n<i>You will be sent a Zoom  link to participate in this event by 2:00 p.m. PT on Thursday\, September 8. Please do not share the link as it will inhibit your ability to join.</i>\n \nEvent Detail Page: https://www.boardoftrade.com/events/6924
X-ALT-DESC;FMTTYPE=text/html:<!doctype html><html><body><div>Schedule: <p>Program:  5:30 - 7:30 p.m. PT<BR><BR><BR><i>You will be sent a Zoom  link to participate in this event by 2:00 p.m. PT on Thursday\, September 8. Please do not share the link as it will inhibit your ability to join.</i></p></div>&nbsp\;<div>Event Detail Page: https://www.boardoftrade.com/events/6924</div></body></html>

SUMMARY:LOT Leadership Development Day
END:VEVENT
END:VCALENDAR