
BEGIN:VCALENDAR
VERSION:2.0
CALSCALE:GREGORIAN
BEGIN:VEVENT
URL;VALUE=URI:https://www.boardoftrade.com/events/6925
DTSTART:20221107T160000Z
DTEND:20221107T170000Z
UID:6925eventcalendar.boardoftrade.com
DTSTAMP:20260419T155046Z
LOCATION:
DESCRIPTION:Schedule: \nOnline Program 8:00 - 9:00 a.m. PT\n \nEvent Detail Page: https://www.boardoftrade.com/events/6925
X-ALT-DESC;FMTTYPE=text/html:<!doctype html><html><body><div>Schedule: <p>Online Program 8:00 - 9:00 a.m. PT</p></div>&nbsp\;<div>Event Detail Page: https://www.boardoftrade.com/events/6925</div></body></html>

SUMMARY:135th Annual General Meeting
END:VEVENT
END:VCALENDAR