
BEGIN:VCALENDAR
VERSION:2.0
CALSCALE:GREGORIAN
BEGIN:VEVENT
URL;VALUE=URI:https://www.boardoftrade.com/events/7501
DTSTART:20220825T213000Z
DTEND:20220825T233000Z
UID:7501eventcalendar.boardoftrade.com
DTSTAMP:20260419T142403Z
LOCATION:Granville Island Public Market
DESCRIPTION:Schedule: \nExperience: 2:30 - 4:30 p.m.\n \nEvent Detail Page: https://www.boardoftrade.com/events/7501
X-ALT-DESC;FMTTYPE=text/html:<!doctype html><html><body><div>Schedule: <p>Experience: 2:30 - 4:30 p.m.</p></div>&nbsp\;<div>Event Detail Page: https://www.boardoftrade.com/events/7501</div></body></html>

SUMMARY:Members' Experience with Vancouver Foodie Tours
END:VEVENT
END:VCALENDAR