
BEGIN:VCALENDAR
VERSION:2.0
CALSCALE:GREGORIAN
BEGIN:VEVENT
URL;VALUE=URI:https://www.boardoftrade.com/events/7505
DTSTART:20220915T170000Z
DTEND:20220915T200000Z
UID:7505eventcalendar.boardoftrade.com
DTSTAMP:20260419T143229Z
LOCATION:Tour Begins at Aberdeen Centre 4400 Hazelbridge Way Richmond
DESCRIPTION:Schedule: \nExperience: 10:00 a.m. - 1:00 p.m.\n \nEvent Detail Page: https://www.boardoftrade.com/events/7505
X-ALT-DESC;FMTTYPE=text/html:<!doctype html><html><body><div>Schedule: <p>Experience: 10:00 a.m. - 1:00 p.m.</p></div>&nbsp\;<div>Event Detail Page: https://www.boardoftrade.com/events/7505</div></body></html>

SUMMARY:Members' Experience with Vancouver Foodie Tours - Authentic Asian Eats Tour
END:VEVENT
END:VCALENDAR