
BEGIN:VCALENDAR
VERSION:2.0
CALSCALE:GREGORIAN
BEGIN:VEVENT
URL;VALUE=URI:https://www.boardoftrade.com/events/7520
DTSTART:20221025T010000Z
DTEND:20221025T023000Z
UID:7520eventcalendar.boardoftrade.com
DTSTAMP:20260419T155421Z
LOCATION:
DESCRIPTION:Schedule: \nProgram:  6:00 - 7:30 p.m. PT<br><br> <i>All registrants will be sent a Zoom  link to participate in this workshop by 2:00 p.m. PT on Monday\, October 24. Please do not share the link as it will inhibit your ability to join.</i>\n \nEvent Detail Page: https://www.boardoftrade.com/events/7520
X-ALT-DESC;FMTTYPE=text/html:<!doctype html><html><body><div>Schedule: <p>Program:  6:00 - 7:30 p.m. PT<br><br> <i>All registrants will be sent a Zoom  link to participate in this workshop by 2:00 p.m. PT on Monday\, October 24. Please do not share the link as it will inhibit your ability to join.</i></p></div>&nbsp\;<div>Event Detail Page: https://www.boardoftrade.com/events/7520</div></body></html>

SUMMARY:Bringing Your A-GAME to Your Team
END:VEVENT
END:VCALENDAR