
BEGIN:VCALENDAR
VERSION:2.0
CALSCALE:GREGORIAN
BEGIN:VEVENT
URL;VALUE=URI:https://www.boardoftrade.com/events/7527
DTSTART:20221101T223000Z
DTEND:20221102T003000Z
UID:7527eventcalendar.boardoftrade.com
DTSTAMP:20260419T155557Z
LOCATION:Fairmont Hotel Waterfront Mackenzie Ballroom 900 Canada Place\, Vancouver
DESCRIPTION:Schedule: \nRegistration & Networking: 3:30 - 4:00 p.m. PT\n Program: 4:00  - 5:30 p.m. PT\n \nEvent Detail Page: https://www.boardoftrade.com/events/7527
X-ALT-DESC;FMTTYPE=text/html:<!doctype html><html><body><div>Schedule: <p>Registration & Networking: 3:30 - 4:00 p.m. PT<BR> Program: 4:00  - 5:30 p.m. PT</p></div>&nbsp\;<div>Event Detail Page: https://www.boardoftrade.com/events/7527</div></body></html>

SUMMARY:Business Distinction Awards 2022
END:VEVENT
END:VCALENDAR