
BEGIN:VCALENDAR
VERSION:2.0
CALSCALE:GREGORIAN
BEGIN:VEVENT
URL;VALUE=URI:https://www.boardoftrade.com/events/7530
DTSTART:20221124T003000Z
DTEND:20221124T023000Z
UID:7530eventcalendar.boardoftrade.com
DTSTAMP:20260419T154810Z
LOCATION:Pacific Yacht Charters Dock 1601 Bayside Drive\, Vancouver | 
DESCRIPTION:Schedule: \nReception: 4:30 - 6:30 p.m.\n \nEvent Detail Page: https://www.boardoftrade.com/events/7530
X-ALT-DESC;FMTTYPE=text/html:<!doctype html><html><body><div>Schedule: <p>Reception: 4:30 - 6:30 p.m.</p></div>&nbsp\;<div>Event Detail Page: https://www.boardoftrade.com/events/7530</div></body></html>

SUMMARY:Members' Social with Pacific Yacht Charters
END:VEVENT
END:VCALENDAR