
BEGIN:VCALENDAR
VERSION:2.0
CALSCALE:GREGORIAN
BEGIN:VEVENT
URL;VALUE=URI:https://www.boardoftrade.com/events/7535
DTSTART:20221206T194500Z
DTEND:20221206T213000Z
UID:7535eventcalendar.boardoftrade.com
DTSTAMP:20260419T155359Z
LOCATION:Fairmont Waterfront | Waterfront Ballroom  | 900 Canada Pl\, Vancouver  | 
DESCRIPTION:Schedule: \nRegistration & Lunch: 11:45 a.m. - 12:30 p.m. PT Program: 12:30 – 1:30 p.m. PT\n \nEvent Detail Page: https://www.boardoftrade.com/events/7535
X-ALT-DESC;FMTTYPE=text/html:<!doctype html><html><body><div>Schedule: <p>Registration & Lunch: 11:45 a.m. - 12:30 p.m. PT Program: 12:30 – 1:30 p.m. PT</p></div>&nbsp\;<div>Event Detail Page: https://www.boardoftrade.com/events/7535</div></body></html>

SUMMARY:Kevin Falcon\, Leader of the Official Opposition
END:VEVENT
END:VCALENDAR