
BEGIN:VCALENDAR
VERSION:2.0
CALSCALE:GREGORIAN
BEGIN:VEVENT
URL;VALUE=URI:https://www.boardoftrade.com/events/7541
DTSTART:20230119T163000Z
DTEND:20230119T180000Z
UID:7541eventcalendar.boardoftrade.com
DTSTAMP:20260419T153646Z
LOCATION:Northeastern University  1400 - 410 West Georgia St. Vancouver
DESCRIPTION:Schedule: \nRegistration\, Breakfast & Networking: 8:30  - 9:15 a.m.\nProgram and Q&A: 9:15 - 10:00 a.m.\n \nEvent Detail Page: https://www.boardoftrade.com/events/7541
X-ALT-DESC;FMTTYPE=text/html:<!doctype html><html><body><div>Schedule: <p>Registration\, Breakfast & Networking: 8:30  - 9:15 a.m.<BR>Program and Q&A: 9:15 - 10:00 a.m.</p></div>&nbsp\;<div>Event Detail Page: https://www.boardoftrade.com/events/7541</div></body></html>

SUMMARY:Impact Series - ESG: More than a Buzzword. A Way to Make Your Company Stronger
END:VEVENT
END:VCALENDAR