
BEGIN:VCALENDAR
VERSION:2.0
CALSCALE:GREGORIAN
BEGIN:VEVENT
URL;VALUE=URI:https://www.boardoftrade.com/events/7546
DTSTART:20230124T193000Z
DTEND:20230124T213000Z
UID:7546eventcalendar.boardoftrade.com
DTSTAMP:20260419T155019Z
LOCATION:Fairmont Hotel Vancouver - BC Ballroom 900 W Georgia St.\, Vancouver 
DESCRIPTION:Schedule: \nRegistration & Lunch: 11:30 a.m. - 12:30 p.m. PT Program: 12:30 – 1:30 p.m. PT\n \nEvent Detail Page: https://www.boardoftrade.com/events/7546
X-ALT-DESC;FMTTYPE=text/html:<!doctype html><html><body><div>Schedule: <p>Registration & Lunch: 11:30 a.m. - 12:30 p.m. PT Program: 12:30 – 1:30 p.m. PT</p></div>&nbsp\;<div>Event Detail Page: https://www.boardoftrade.com/events/7546</div></body></html>

SUMMARY:State of the City Address with Mayor Ken Sim
END:VEVENT
END:VCALENDAR