
BEGIN:VCALENDAR
VERSION:2.0
CALSCALE:GREGORIAN
BEGIN:VEVENT
URL;VALUE=URI:https://www.boardoftrade.com/events/7558
DTSTART:20230427T230000Z
DTEND:20230428T020000Z
UID:7558eventcalendar.boardoftrade.com
DTSTAMP:20260425T160916Z
LOCATION:Stanley Park Bus Loop  Near Pavillion 610 Pipeline Rd Vancouver  | 
DESCRIPTION:Schedule: \nTalking Trees Tour: 4:00 - 5:30 p.m.<br> Reception/Social: 5:30 - 7:00 p.m.\n \nEvent Detail Page: https://www.boardoftrade.com/events/7558
X-ALT-DESC;FMTTYPE=text/html:<!doctype html><html><body><div>Schedule: <p>Talking Trees Tour: 4:00 - 5:30 p.m.<br> Reception/Social: 5:30 - 7:00 p.m.</p></div>&nbsp\;<div>Event Detail Page: https://www.boardoftrade.com/events/7558</div></body></html>

SUMMARY:Talking Trees Tour with Talaysay Tours
END:VEVENT
END:VCALENDAR